Workbook
Name BASELINE: 'new alternative'!$D$4:$L$92
Name BASELINE: 'new extended'!$D$4:$L$80
Name BASELINE: 'realistic (no tax cuts)'!$D$4:$L$90
Name BASELINE: 'realistic (tax cuts)'!$D$4:$L$90
Name BASELINE: 'CBO baseline'!$D$7:$L$92
Name OFFBUD: #REF!
Name offbud: 'new extended'!$R$55
Name OFFBUD: #REF!
Name OFFBUD: #REF!
Name OFFBUD: #REF!
Name Print_Area2: '[1]Growth rates'!$B$3:$M$61
Name print_area3: #REF!
Name print_area3: #REF!
Name print_area3: #REF!
Name print_area3: #REF!
Name print_area3: #REF!

Sheet CBO baseline
A1: Table 1-2 (From August 2011 BEO Update)
A2: CBO’s Baseline Budget Projections
A3: Billions of Dollars
R4: Total
F5: Actual, | R5: 2012- | S5: 2012-
F6: 2010 | G6: 2011 | H6: 2012 | I6: 2013 | J6: 2014 | K6: 2015 | L6: 2016 | M6: 2017 | N6: 2018 | O6: 2019 | P6: 2020 | Q6: 2021 | R6: 2016 | S6: 2021
A7: Revenues
B8: Individual income taxes | F8: 898.549 | G8: 1088.9303 | H8: 1209.1645 | I8: 1510.3224 | J8: 1666.1769 | K8: 1842.7701 | L8: 1985.1536 | M8: 2129.07 | N8: 2256.5051 | O8: 2392.5659 | P8: 2533.525 | Q8: 2679.0888 | R8: =SUM(H8:L8) -> 8213.5875 | S8: =SUM(H8:Q8) -> 20204.342
B9: Social insurance taxes | F9: 864.814 | G9: 816.49342 | H9: 924.14826 | I9: 995.61191 | J9: 1055.3136 | K9: 1123.1378 | L9: 1187.9365 | M9: 1242.0871 | N9: 1295.5025 | O9: 1351.2296 | P9: 1411.6106 | Q9: 1472.9932 | R9: =SUM(H9:L9) -> 5286.148 | S9: =SUM(H9:Q9) -> 12059.571
B10: Corporate income taxes | F10: 191.43662 | G10: 191.7297 | H10: 278.98645 | I10: 336.30811 | J10: 431.36249 | K10: 416.13296 | L10: 384.81211 | M10: 418.21718 | N10: 420.1871 | O10: 431.08134 | P10: 434.71418 | Q10: 447.8727 | R10: =SUM(H10:L10) -> 1847.6021 | S10: =SUM(H10:Q10) -> 3999.6746
B11: Other | F11: 207.92449 | G11: 216.68175 | H11: 223.08085 | I11: 226.86358 | J11: 270.31546 | K11: 283.25084 | L11: 288.96953 | M11: 298.08926 | N11: 313.49149 | O11: 333.28336 | P11: 350.99954 | Q11: 369.25231 | R11: =SUM(H11:L11) -> 1292.4803 | S11: =SUM(H11:Q11) -> 2957.5962
F12: _____ | G12: _____ | H12: _____ | I12: _____ | J12: _____ | K12: _____ | L12: _____ | M12: _____ | N12: _____ | O12: _____ | P12: _____ | Q12: _____ | R12: ______ | S12: ______
C13: Total Revenues | F13: =SUM(F8:F11) -> 2162.7241 | G13: =SUM(G8:G11) -> 2313.8351 | H13: =SUM(H8:H11) -> 2635.3801 | I13: =SUM(I8:I11) -> 3069.106 | J13: =SUM(J8:J11) -> 3423.1684 | K13: =SUM(K8:K11) -> 3665.2916 | L13: =SUM(L8:L11) -> 3846.8717 | M13: =SUM(M8:M11) -> 4087.4636 | ... Q13: =SUM(Q8:Q11) -> 4969.2071 | R13: =SUM(H13:L13) -> 16639.818 | S13: =SUM(H13:Q13) -> 39221.184
D14: On-budget | F14: 1531.0371 | G14: 1752.2841 | H14: 1982.2981 | I14: 2359.472 | J14: 2677.5064 | K14: 2868.9086 | L14: 2999.6367 | M14: 3193.5146 | N14: 3348.1872 | O14: 3527.1512 | P14: 3703.9924 | Q14: 3896.6701 | R14: =SUM(H14:L14) -> 12887.822 | S14: =SUM(H14:Q14) -> 30557.337
D15: Off-budget | F15: 631.687 | G15: 561.551 | H15: 653.082 | I15: 709.634 | J15: 745.662 | K15: 796.383 | L15: 847.235 | M15: 893.949 | N15: 937.499 | O15: 981.009 | P15: 1026.857 | Q15: 1072.537 | R15: =SUM(H15:L15) -> 3751.996 | S15: =SUM(H15:Q15) -> 8663.847
A17: Outlays
B18: Mandatory spending | F18: ='CBO mandatory spending'!F74 -> 1912.9 | G18: ='CBO mandatory spending'!G74 -> 2022.658 | H18: ='CBO mandatory spending'!H74 -> 2055.752 | I18: ='CBO mandatory spending'!I74 -> 2129.161 | J18: ='CBO mandatory spending'!J74 -> 2211.338 | K18: ='CBO mandatory spending'!K74 -> 2339.86 | L18: ='CBO mandatory spending'!L74 -> 2510.617 | M18: ='CBO mandatory spending'!M74 -> 2615.89 | ... Q18: ='CBO mandatory spending'!Q74 -> 3282.044 | R18: =SUM(H18:L18) -> 11246.728 | S18: =SUM(H18:Q18) -> 25878.794
B19: Discretionary spending | F19: 1347.149 | G19: 1353.437 | H19: 1315.082 | I19: 1299.84 | J19: 1300.733 | K19: 1311.302 | L19: 1332.114 | M19: 1349.821 | N19: 1369.745 | O19: 1403.613 | P19: 1433.922 | Q19: 1464.158 | R19: =SUM(H19:L19) -> 6559.071 | S19: =SUM(H19:Q19) -> 13580.33
B20: Net interest | F20: 196.194 | G20: 221.302 | H20: 237.762 | I20: 263.14 | J20: 290.762 | K20: 336.378 | L20: 406.563 | M20: 483.776 | N20: 544.83 | O20: 591.107 | P20: 631.691 | Q20: 663.129 | R20: =SUM(H20:L20) -> 1534.605 | S20: =SUM(H20:Q20) -> 4449.138
F21: _____ | G21: _____ | H21: _____ | I21: _____ | J21: _____ | K21: _____ | L21: _____ | M21: _____ | N21: _____ | O21: _____ | P21: _____ | Q21: _____ | R21: ______ | S21: ______
C22: Total Outlays | F22: =SUM(F18:F20) -> 3456.243 | G22: =SUM(G18:G20) -> 3597.397 | H22: =SUM(H18:H20) -> 3608.596 | I22: =SUM(I18:I20) -> 3692.141 | J22: =SUM(J18:J20) -> 3802.833 | K22: =SUM(K18:K20) -> 3987.54 | L22: =SUM(L18:L20) -> 4249.294 | M22: =SUM(M18:M20) -> 4449.487 | ... Q22: =SUM(Q18:Q20) -> 5409.331 | R22: =SUM(H22:L22) -> 19340.404 | S22: =SUM(H22:Q22) -> 43908.262
D23: On-budget | F23: 2901.566 | G23: 3097.248 | H23: 3022.367 | I23: 3035.737 | J23: 3110.335 | K23: 3259.552 | L23: 3482.958 | M23: 3639.153 | N23: 3775.803 | O23: 3999.837 | P23: 4189.084 | Q23: 4376.25 | R23: =SUM(H23:L23) -> 15910.949 | S23: =SUM(H23:Q23) -> 35891.076
D24: Off-budget | F24: 554.677 | G24: 500.149 | H24: 586.229 | I24: 656.404 | J24: 692.498 | K24: 727.988 | L24: 766.336 | M24: 810.334 | N24: 859.305 | O24: 913.111 | P24: 971.9 | Q24: 1033.081 | R24: =SUM(H24:L24) -> 3429.455 | S24: =SUM(H24:Q24) -> 8017.186
A26: Deficit (-) or Surplus Excluding Effects of
A27: Provisions Related to the Joint Select
A28: Committee on Deficit Reduction | F28: =F13 - F22 -> -1293.5189 | G28: =G13 - G22 -> -1283.5619 | H28: =H13 - H22 -> -973.21592 | I28: =I13 - I22 -> -623.035 | J28: =J13 - J22 -> -379.66458 | K28: =K13 - K22 -> -322.24836 | L28: =L13 - L22 -> -402.42227 | M28: =M13 - M22 -> -362.02345 | ... Q28: =Q13 - Q22 -> -440.12395 | R28: =SUM(H28:L28) -> -2700.5861 | S28: =SUM(H28:Q28) -> -4687.0778
B29: On-budget | F29: =F14 - F23 -> -1370.5289 | G29: =G14 - G23 -> -1344.9639 | H29: =H14 - H23 -> -1040.0689 | I29: =I14 - I23 -> -676.265 | J29: =J14 - J23 -> -432.82858 | K29: =K14 - K23 -> -390.64336 | L29: =L14 - L23 -> -483.32127 | M29: =M14 - M23 -> -445.63845 | ... Q29: =Q14 - Q23 -> -479.57995 | R29: =SUM(H29:L29) -> -3023.1271 | S29: =SUM(H29:Q29) -> -5333.7388
B30: Off-budget | F30: =F15 - F24 -> 77.01 | G30: =G15 - G24 -> 61.402 | H30: =H15 - H24 -> 66.853 | I30: =I15 - I24 -> 53.23 | J30: =J15 - J24 -> 53.164 | K30: =K15 - K24 -> 68.395 | L30: =L15 - L24 -> 80.899 | M30: =M15 - M24 -> 83.615 | ... Q30: =Q15 - Q24 -> 39.456 | R30: =SUM(H30:L30) -> 322.541 | S30: =SUM(H30:Q30) -> 646.661
A32: Effects of Those Provisionsa
B33: Policy changes | F33: 0 | G33: 0 | H33: 0 | I33: 111.4434 | J33: 111.4434 | K33: 111.4434 | L33: 111.4434 | M33: 111.4434 | N33: 111.4434 | O33: 111.4434 | P33: 111.4434 | Q33: 111.4434 | R33: =SUM(H33:L33) -> 445.7736 | S33: =SUM(H33:Q33) -> 1002.9906
B34: Debt service | F34: 0 | G34: 0 | H34: 0 | I34: 1.1032897 | J34: 3.1315595 | K34: 6.1739644 | L34: 12.492805 | M34: 20.070956 | N34: 27.281344 | O34: 34.61432 | P34: 42.170183 | Q34: 49.971221 | R34: =SUM(H34:L34) -> 22.901619 | S34: =SUM(H34:Q34) -> 197.00964
F35: _ | G35: _ | H35: _ | I35: ___ | J35: ___ | K35: ___ | L35: ___ | M35: ___ | N35: ___ | O35: ___ | P35: ___ | Q35: ___ | R35: ___ | S35: ____
C36: Total Effects | F36: =SUM(F33:F34) -> 0 | G36: =SUM(G33:G34) -> 0 | H36: =SUM(H33:H34) -> 0 | I36: =SUM(I33:I34) -> 112.54669 | J36: =SUM(J33:J34) -> 114.57496 | K36: =SUM(K33:K34) -> 117.61736 | L36: =SUM(L33:L34) -> 123.93621 | M36: =SUM(M33:M34) -> 131.51436 | ... Q36: =SUM(Q33:Q34) -> 161.41462 | R36: =SUM(H36:L36) -> 468.67522 | S36: =SUM(H36:Q36) -> 1200.0002
A38: Total Deficit | F38: =SUM(F28,F36) -> -1293.5189 | G38: =SUM(G28,G36) -> -1283.5619 | H38: =SUM(H28,H36) -> -973.21592 | I38: =SUM(I28,I36) -> -510.48831 | J38: =SUM(J28,J36) -> -265.08962 | K38: =SUM(K28,K36) -> -204.631 | L38: =SUM(L28,L36) -> -278.48606 | M38: =SUM(M28,M36) -> -230.50909 | ... Q38: =SUM(Q28,Q36) -> -278.70933 | R38: =SUM(H38:L38) -> -2231.9109 | S38: =SUM(H38:Q38) -> -3487.0776
A40: Debt Held by the Public
A41: at the End of the Year | F41: 9018.941 | G41: =SUM(F41,G42,G43) -> 10164.113 | H41: =SUM(G41,H42,H43) -> 11152.928 | I41: =SUM(H41,I42,I43) -> 11773.388 | J41: =SUM(I41,J42,J43) -> 12148.087 | K41: =SUM(J41,K42,K43) -> 12462.716 | L41: =SUM(K41,L42,L43) -> 12839.815 | M41: =SUM(L41,M42,M43) -> 13169.087 | N41: =SUM(M41,N42,N43) -> 13473.325 | ... Q41: =SUM(P41,Q42,Q43) -> 14541.093 | R41: n.a. | S41: n.a.
B42: Deficit | G42: =-G38 -> 1283.5619 | H42: =-H38 -> 973.21592 | I42: =-I38 -> 510.48831 | J42: =-J38 -> 265.08962 | K42: =-K38 -> 204.631 | L42: =-L38 -> 278.48606 | M42: =-M38 -> 230.50909 | N42: =-N38 -> 210.6971 | ... Q42: =-Q38 -> 278.70933
B43: Other Means of Financing | E43: BEOU, Table 1-7 | G43: -138.39 | H43: 15.598904 | I43: 109.97229 | J43: 109.60915 | K43: 109.99747 | L43: 98.61321 | M43: 98.763367 | N43: 93.540917 | O43: 88.170841 | P43: 83.895115 | Q43: 81.741363
R46: Total
F47: Actual, | R47: 2012- | S47: 2012-
...

Sheet CBO mandatory spending
A2: Table 1-4.
A3: CBO’s Baseline Projections of Mandatory Spendinga
A4: (Outlays, in billions of dollars)
R5: Total
F6: Actual, | R6: 2012- | S6: 2012-
F7: 2010 | G7: 2011 | H7: 2012 | I7: 2013 | J7: 2014 | K7: 2015 | L7: 2016 | M7: 2017 | N7: 2018 | O7: 2019 | P7: 2020 | Q7: 2021 | R7: 2016 | S7: 2021
A9: Social Security | F9: 700.752 | G9: 725.591 | H9: 768.676 | I9: 811.821 | J9: 853.288 | K9: 896.746 | L9: 945.469 | M9: 1001.387 | N9: 1063.357 | O9: 1131.017 | P9: 1202.678 | Q9: 1276.081 | R9: =SUM(H9:L9) -> 4276 | S9: =SUM(H9:Q9) -> 9950.52
A11: Health Care Programs
B12: Medicarea | F12: 520.486 | G12: 555.434 | H12: 555.321 | I12: 597.829 | J12: 631.62 | K12: 662.078 | L12: 717.59 | M12: 746.47 | N12: 776.779 | O12: 844.663 | P12: 902.589 | Q12: 966.14 | R12: =SUM(H12:L12) -> 3164.438 | S12: =SUM(H12:Q12) -> 7401.079
B13: Medicaid | F13: 272.771 | G13: 274.399 | H13: 259.436 | I13: 275.935 | J13: 324.531 | K13: 364.213 | L13: 403.677 | M13: 430.294 | N13: 455.186 | O13: 486.266 | P13: 520.068 | Q13: 561.365 | R13: =SUM(H13:L13) -> 1627.792 | S13: =SUM(H13:Q13) -> 4080.971
B14: Health insurance subsidies,
C15: exchanges, and related
C16: spending | F16: 0.001 | G16: 0.023 | H16: 0.575 | I16: 0.838 | J16: 16.201 | K16: 34.533 | L16: 56.285 | M16: 70.386 | N16: 78.862 | O16: 84.9 | P16: 90.488 | Q16: 96.354 | R16: =SUM(H16:L16) -> 108.432 | S16: =SUM(H16:Q16) -> 529.422
B17: MERHCF | F17: 8.429 | G17: 8.618 | H17: 8.858 | I17: 9.553 | J17: 10.317 | K17: 11.008 | L17: 11.736 | M17: 12.534 | N17: 13.384 | O17: 14.286 | P17: 15.271 | Q17: 16.279 | R17: =SUM(H17:L17) -> 51.472 | S17: =SUM(H17:Q17) -> 123.226
B18: Children's Health Insurance
C19: Program | F19: 7.887 | G19: 8.635 | H19: 8.858 | I19: 9.258 | J19: 8.984 | K19: 9.591 | L19: 9.728 | M19: 8.049 | N19: 6 | O19: 5.72 | P19: 5.685 | Q19: 5.72 | R19: =SUM(H19:L19) -> 46.419 | S19: =SUM(H19:Q19) -> 77.593
B20: Other | F20: 0.855 | G20: 4.955 | H20: 7.667 | I20: 7.485 | J20: 13.683 | K20: 26.694 | L20: 24.265 | M20: 26.253 | N20: 26.419 | O20: 30.543 | P20: 34.88 | Q20: 37.967 | R20: =SUM(H20:L20) -> 79.794 | S20: =SUM(H20:Q20) -> 235.856
F21: __ | G21: __ | H21: __ | I21: __ | J21: __ | K21: __ | L21: __ | M21: __ | N21: __ | O21: __ | P21: __ | Q21: __ | R21: __ | S21: __
D22: Subtotal | F22: =SUM(F12:F20) -> 810.429 | G22: =SUM(G12:G20) -> 852.064 | H22: =SUM(H12:H20) -> 840.715 | I22: =SUM(I12:I20) -> 900.898 | J22: =SUM(J12:J20) -> 1005.336 | K22: =SUM(K12:K20) -> 1108.117 | L22: =SUM(L12:L20) -> 1223.281 | M22: =SUM(M12:M20) -> 1293.986 | ... Q22: =SUM(Q12:Q20) -> 1683.825 | R22: =SUM(H22:L22) -> 5078.347 | S22: =SUM(H22:Q22) -> 12448.147
A24: Income Security
B25: SNAP | F25: 70.366 | G25: 76.856 | H25: 80.145 | I25: 80.151 | J25: 74.504 | K25: 73.259 | L25: 72.091 | M25: 70.611 | N25: 69.031 | O25: 67.61 | P25: 66.843 | Q25: 65.81 | R25: =SUM(H25:L25) -> 380.15 | S25: =SUM(H25:Q25) -> 720.055
B26: Unemployment compensation | F26: 158.73 | G26: 120.043 | H26: 77.324 | I26: 60.453 | J26: 62.27 | K26: 57.844 | L26: 50.925 | M26: 51.531 | N26: 53.242 | O26: 55.349 | P26: 57.769 | Q26: 60.306 | R26: =SUM(H26:L26) -> 308.816 | S26: =SUM(H26:Q26) -> 587.013
B27: Supplemental Security Income | F27: 47.286 | G27: 52.862 | H27: 46.615 | I27: 53.009 | J27: 54.326 | K27: 55.345 | L27: 61.546 | M27: 57.924 | N27: 54.13 | O27: 60.992 | P27: 62.689 | Q27: 64.437 | R27: =SUM(H27:L27) -> 270.841 | S27: =SUM(H27:Q27) -> 571.013
B28: Earned income and child tax credits | F28: 77.371 | G28: 78.36 | H28: 79.453 | I28: 79.465 | J28: 46.603 | K28: 45.62 | L28: 44.25 | M28: 43.835 | N28: 44.098 | O28: 44.517 | P28: 45.083 | Q28: 46 | R28: =SUM(H28:L28) -> 295.391 | S28: =SUM(H28:Q28) -> 518.924
B29: Family supportb | F29: 27.758 | G29: 26.577 | H29: 25.497 | I29: 24.996 | J29: 24.718 | K29: 24.779 | L29: 24.844 | M29: 24.915 | N29: 24.991 | O29: 25.068 | P29: 25.145 | Q29: 25.225 | R29: =SUM(H29:L29) -> 124.834 | S29: =SUM(H29:Q29) -> 250.178
B30: Child nutrition | F30: 17.477 | G30: 18.378 | H30: 19.452 | I30: 20.54 | J30: 21.475 | K30: 22.382 | L30: 23.399 | M30: 24.479 | N30: 25.564 | O30: 26.694 | P30: 27.86 | Q30: 29.151 | R30: =SUM(H30:L30) -> 107.248 | S30: =SUM(H30:Q30) -> 240.996
B31: Foster care | F31: 6.974 | G31: 6.823 | H31: 6.904 | I31: 7.143 | J31: 7.57 | K31: 7.78 | L31: 8.014 | M31: 8.28 | N31: 8.605 | O31: 8.958 | P31: 9.342 | Q31: 9.736 | R31: =SUM(H31:L31) -> 37.411 | S31: =SUM(H31:Q31) -> 82.332
B32: Making Work Pay and other tax creditsc | F32: 31.522 | G32: 23.755 | H32: 4.804 | I32: 5 | J32: 0.078 | K32: 0.078 | L32: 0.078 | M32: 0.078 | N32: 0.077 | O32: 0.076 | P32: 0.074 | Q32: 0.073 | R32: =SUM(H32:L32) -> 10.038 | S32: =SUM(H32:Q32) -> 10.416
F33: ___ | G33: ___ | H33: ___ | I33: ___ | J33: ___ | K33: ___ | L33: ___ | M33: ___ | N33: ___ | O33: ___ | P33: ___ | Q33: ___ | R33: ___ | S33: ___
D34: Subtotal | F34: =SUM(F25:F32) -> 437.484 | G34: =SUM(G25:G32) -> 403.654 | H34: =SUM(H25:H32) -> 340.194 | I34: =SUM(I25:I32) -> 330.757 | J34: =SUM(J25:J32) -> 291.544 | K34: =SUM(K25:K32) -> 287.087 | L34: =SUM(L25:L32) -> 285.147 | M34: =SUM(M25:M32) -> 281.653 | ... Q34: =SUM(Q25:Q32) -> 300.738 | R34: =SUM(H34:L34) -> 1534.729 | S34: =SUM(H34:Q34) -> 2980.927
A36: Federal Civilian and Military Retirement
B37: Civiliand | F37: 81.559 | G37: 83.337 | H37: 86.737 | I37: 89.524 | J37: 92.286 | K37: 94.818 | L37: 97.704 | M37: 100.813 | N37: 104.397 | O37: 107.976 | P37: 111.597 | Q37: 115.374 | R37: =SUM(H37:L37) -> 461.069 | S37: =SUM(H37:Q37) -> 1001.226
B38: Military | F38: 50.585 | G38: 54.74 | H38: 48.686 | I38: 53.787 | J38: 54.681 | K38: 55.61 | L38: 61.098 | M38: 58.347 | N38: 55.136 | O38: 61.304 | P38: 63.131 | Q38: 65.059 | R38: =SUM(H38:L38) -> 273.862 | S38: =SUM(H38:Q38) -> 576.839
B39: Other | F39: 6.243 | G39: 6.355 | H39: 7.079 | I39: 7.458 | J39: 7.883 | K39: 8.398 | L39: 9.254 | M39: 9.268 | N39: 9.795 | O39: 10.271 | P39: 10.699 | Q39: 11.441 | R39: =SUM(H39:L39) -> 40.072 | S39: =SUM(H39:Q39) -> 91.546
F40: ___ | G40: ___ | H40: ___ | I40: ___ | J40: ___ | K40: ___ | L40: ___ | M40: ___ | N40: ___ | O40: ___ | P40: ___ | Q40: ___ | R40: ___ | S40: ___
D41: Subtotal | F41: =SUM(F37:F39) -> 138.387 | G41: =SUM(G37:G39) -> 144.432 | H41: =SUM(H37:H39) -> 142.502 | I41: =SUM(I37:I39) -> 150.769 | J41: =SUM(J37:J39) -> 154.85 | K41: =SUM(K37:K39) -> 158.826 | L41: =SUM(L37:L39) -> 168.056 | M41: =SUM(M37:M39) -> 168.428 | ... Q41: =SUM(Q37:Q39) -> 191.874 | R41: =SUM(H41:L41) -> 775.003 | S41: =SUM(H41:Q41) -> 1669.611
A43: Veteranse
B44: Income security | F44: 49.158 | G44: 59 | H44: 59.942 | I44: 58.746 | J44: 59.987 | K44: 61.117 | L44: 67.3 | M44: 63.662 | N44: 59.927 | O44: 66.503 | P44: 67.942 | Q44: 69.342 | R44: =SUM(H44:L44) -> 307.092 | S44: =SUM(H44:Q44) -> 634.468
B45: Other | F45: 9.109 | G45: 11.915 | H45: 11.279 | I45: 11.852 | J45: 12.602 | K45: 13.2 | L45: 14.108 | M45: 14.462 | N45: 15.025 | O45: 15.9 | P45: 16.71 | Q45: 17.564 | R45: =SUM(H45:L45) -> 63.041 | S45: =SUM(H45:Q45) -> 142.702
F46: __ | G46: __ | H46: __ | I46: __ | J46: __ | K46: __ | L46: __ | M46: __ | N46: __ | O46: __ | P46: __ | Q46: __ | R46: __ | S46: __
...

Sheet CBO alternatives
A2: Table 1-8
A3: Budgetary Effects of Selected Policy Alternatives Not Included in CBO’s Baseline
A4: (Billions of dollars)
O7: Total
O8: 2012- | P8: 2012-
D9: 2011 | E9: 2012 | F9: 2013 | G9: 2014 | H9: 2015 | I9: 2016 | J9: 2017 | K9: 2018 | L9: 2019 | M9: 2020 | N9: 2021 | O9: 2016 | P9: 2021
D11: Policy Alternatives That Affect Discretionary Outlays
A12: Reduce the Number of Troops
A13: Deployed for Certain Types of Overseas
A14: Military Operations to 45,000 by 2015a
B15: Effect on the deficitb | D15: 0 | E15: 18.343 | F15: 52.991 | G15: 85.612 | H15: 112.317 | I15: 128.991 | J15: 136.274 | K15: 141.272 | L15: 145.508 | M15: 148.323 | N15: 152.205 | O15: 398.254 | P15: 1121.836
B16: Debt service | D16: 0 | E16: 0.2054416 | F16: 0.8034245 | G16: 2.1709232 | H16: 4.7757753 | I16: 11.024582 | J16: 19.107472 | K16: 27.462969 | L16: 36.151132 | M16: 45.315598 | N16: 54.976326 | O16: 18.980147 | P16: 201.99364
A18: Increase Discretionary Appropriations
A19: at the Rate of Growth of Nominal GDPc
B20: Effect on the deficitb | D20: 0 | E20: -38.810409 | F20: -75.96776 | G20: -114.70377 | H20: -168.81639 | I20: -221.72932 | J20: -268.84023 | K20: -312.91556 | L20: -356.94098 | M20: -401.64452 | N20: -447.25091 | O20: -620.02765 | P20: -2407.6199
B21: Debt service | D21: 0 | E21: -0.43467658 | F21: -1.341999 | G21: -3.2321805 | H21: -7.0342077 | I21: -17.01269 | J21: -31.383429 | K21: -48.121124 | L21: -67.281938 | M21: -89.294923 | N21: -114.29529 | O21: -29.055754 | P21: -379.43246
A23: Increase Discretionary Appropriations
A24: at the Rate of Inflationd
B25: Effect on the deficitb | D25: 0 | E25: -26.935 | F25: -49.422 | G25: -61.779 | H25: -69.782 | I25: -77.077 | J25: -83.634 | K25: -90.524 | L25: -97.767 | M25: -106.111 | N25: -114.761 | O25: -284.995 | P25: -777.792
B26: Debt service | D26: 0 | E26: -0.301672 | F26: -0.8986898 | G26: -1.9848295 | H26: -3.8431497 | I26: -7.9587467 | J26: -13.193677 | K26: -18.641255 | L26: -24.465198 | M26: -30.875782 | N26: -37.89535 | O26: -14.987088 | P26: -140.05835
A28: Freeze Discretionary Appropriations
A29: at the Level of the Cap for 2013
B30: Effect on the deficitb | D30: 0 | E30: 0 | F30: 0 | G30: 10.883613 | H30: 27.341247 | I30: 46.492793 | J30: 68.374911 | K30: 92.143205 | L30: 117.09577 | M30: 142.53276 | N30: 168.16364 | O30: 84.717654 | P30: 673.02794
B31: Debt service | D31: 0 | E31: 0 | F31: 0 | G31: 0.12407319 | H31: 0.57244531 | I31: 2.2319833 | J31: 5.2424113 | K31: 9.5155261 | L31: 15.087576 | M31: 22.086104 | N31: 30.596882 | O31: 2.9285018 | P31: 85.457001
D33: Policy Alternative That Affects Mandatory Outlays
A34: Maintain Medicare's Payment Rates
A35: for Physicians at the 2011 Levele
B36: Effect on the deficitb | D36: 0 | E36: -12.024 | F36: -19.086 | G36: -22.881 | H36: -26.055 | I36: -28.839 | J36: -31.286 | K36: -33.884 | L36: -37.354 | M36: -41.062 | N36: -45.086 | O36: -108.885 | P36: -297.557
B37: Debt service | D37: 0 | E37: -0.1346688 | F37: -0.3717162 | G37: -0.7827852 | H37: -1.4868591 | I37: -3.043374 | J37: -5.0178922 | K37: -7.0703013 | L37: -9.2807361 | M37: -11.743637 | N37: -14.467536 | O37: -5.8194033 | P37: -53.399506
D39: Policy Alternatives That Affect the Tax Codef
A40: Extend Certain Income Tax and Estate
A41: and Gift Tax Provisions Scheduled to
A42: Expire on December 31, 2012g
B43: Effect on the deficitb | D43: 0 | E43: -2.319 | F43: -107.57646 | G43: -234.159 | H43: -266.454 | I43: -280.011 | J43: -292.237 | K43: -303.488 | L43: -313.3 | M43: -324.925 | N43: -336.61 | O43: -890.51946 | P43: -2461.0795
B44: Debt service | D44: 0 | E44: -0.0259728 | F44: -1.1002557 | G44: -4.5051305 | H44: -10.742609 | I44: -24.744776 | J44: -42.386688 | K44: -60.409157 | L44: -79.203922 | M44: -99.163585 | N44: -120.45233 | O44: -41.118744 | P44: -442.73442
A46: Index the AMT for Inflationh
B47: Effect on the deficitb | D47: 0 | E47: -9.016 | F47: -92.514 | G47: -39.477 | H47: -45.455 | I47: -53.387 | J47: -62.539 | K47: -74.009 | L47: -88.137 | M47: -103.784 | N47: -121.326 | O47: -239.849 | P47: -689.644
B48: Debt service | D48: 0 | E48: -0.1009792 | F48: -1.0529318 | G48: -2.147392 | H48: -3.5740875 | I48: -6.7145824 | J48: -10.798025 | K48: -15.139009 | L48: -20.206425 | M48: -26.155768 | N48: -33.07709 | O48: -13.589973 | P48: -118.96629
A50: Extend Certain Income Tax and Estate
A51: and Gift Tax Provisions Scheduled to
...

Sheet LTBO
A2: Supplemental data
A4: CBO's Long-Term Budget Outlook (June 2011)
A6: Figure 1-1. Primary Spending and Revenues, by Category, Under CBO’s Long-Term Budget Scenarios
A7: (Percentage of gross domestic product)
B9: Extended-Baseline Scenario | H9: Alternative Fiscal Scenario
A10: Fiscal Year | B10: Social Security | C10: Medicare, Medicaid, CHIP, and Exchange Subsidies | D10: Other Noninterest Spending | E10: Total Primary Spending | F10: Revenues | H10: Social Security | I10: Medicare, Medicaid, CHIP, and Exchange Subsidies | J10: Other Noninterest Spending | K10: Total Primary Spending | L10: Revenues
A12: 2000 | B12: 4.1 | C12: 3.4 | D12: 8.4 | E12: 15.9 | F12: 20.6 | H12: 4.1 | I12: 3.4 | J12: 8.4 | K12: 15.9 | L12: 20.6
A13: 2001 | B13: 4.2 | C13: 3.6 | D13: 8.4 | E13: 16.2 | F13: 19.5 | H13: 4.2 | I13: 3.6 | J13: 8.4 | K13: 16.2 | L13: 19.5
A14: 2002 | B14: 4.3 | C14: 3.8 | D14: 9.4 | E14: 17.5 | F14: 17.6 | H14: 4.3 | I14: 3.8 | J14: 9.4 | K14: 17.5 | L14: 17.6
A15: 2003 | B15: 4.3 | C15: 4 | D15: 10 | E15: 18.3 | F15: 16.2 | H15: 4.3 | I15: 4 | J15: 10 | K15: 18.3 | L15: 16.2
A16: 2004 | B16: 4.2 | C16: 4.1 | D16: 10 | E16: 18.3 | F16: 16.1 | H16: 4.2 | I16: 4.1 | J16: 10 | K16: 18.3 | L16: 16.1
A17: 2005 | B17: 4.2 | C17: 4.1 | D17: 10.1 | E17: 18.4 | F17: 17.3 | H17: 4.2 | I17: 4.1 | J17: 10.1 | K17: 18.4 | L17: 17.3
A18: 2006 | B18: 4.1 | C18: 4.2 | D18: 10.1 | E18: 18.4 | F18: 18.2 | H18: 4.1 | I18: 4.2 | J18: 10.1 | K18: 18.4 | L18: 18.2
A19: 2007 | B19: 4.2 | C19: 4.5 | D19: 9.2 | E19: 17.9 | F19: 18.5 | H19: 4.2 | I19: 4.5 | J19: 9.2 | K19: 17.9 | L19: 18.5
A20: 2008 | B20: 4.3 | C20: 4.6 | D20: 10.1 | E20: 19 | F20: 17.5 | H20: 4.3 | I20: 4.6 | J20: 10.1 | K20: 19 | L20: 17.5
A21: 2009 | B21: 4.8 | C21: 5.3 | D21: 13.5 | E21: 23.6 | F21: 14.9 | H21: 4.8 | I21: 5.3 | J21: 13.5 | K21: 23.6 | L21: 14.9
A22: 2010 | B22: 4.8 | C22: 5.5 | D22: 12.2 | E22: 22.5 | F22: 14.9 | H22: 4.8 | I22: 5.5 | J22: 12.2 | K22: 22.5 | L22: 14.9
A23: 2011 | B23: 4.8 | C23: 5.6 | D23: 12.3 | E23: 22.7 | F23: 14.8 | H23: 4.8 | I23: 5.6 | J23: 12.3 | K23: 22.7 | L23: 14.8
... A47: 2035 | B47: 6.1 | C47: 9.4 | D47: 7.8 | E47: 23.3 | F47: 23.2 | H47: 6.1 | I47: 10.3 | J47: 8.5 | K47: 25 | L47: 18.4
E49: 2021–35 revenue growth rate | F49: =(F47/F33) ^ (1/14) - 1 -> 0.0078304483

Sheet LTBO extended baseline
A2: Supplemental data
A4: CBO's Long-Term Budget Outlook (June 2011)
A6: Summary Data for the Extended-Baseline Scenario
A7: (Percentage of gross domestic product)
C9: Outlays | K9: Memorandum:
A10: Fiscal Year | B10: Revenues | C10: Social Security | D10: Medicare, Medicaid, CHIP, and Exchange Subsidiesa | E10: Other Noninterest Spendingb | F10: Total Noninterest Spending | G10: Net Interest | H10: Total Spending | I10: Debt | K10: Medicare Offsetting Receiptsc
A12: 2011 | B12: 14.8 | C12: 4.8 | D12: 5.6 | E12: 12.3 | F12: 22.7 | G12: 1.4 | H12: 24.1 | I12: 69 | K12: -0.5
A13: 2012 | B13: 16.3 | C13: 4.8 | D13: 5.3 | E13: 11.4 | F13: 21.6 | G13: 1.6 | H13: 23.2 | I13: 73 | K13: -0.5
A14: 2013 | B14: 18.8 | C14: 4.9 | D14: 5.4 | E14: 10.8 | F14: 21.1 | G14: 2 | H14: 23 | I14: 75 | K14: -0.5
A15: 2014 | B15: 19.9 | C15: 4.9 | D15: 5.7 | E15: 10.1 | F15: 20.6 | G15: 2.3 | H15: 22.9 | I15: 75 | K15: -0.5
A16: 2015 | B16: 20 | C16: 4.9 | D16: 5.9 | E16: 9.7 | F16: 20.4 | G16: 2.5 | H16: 23 | I16: 74 | K16: -0.5
A17: 2016 | B17: 20 | C17: 4.9 | D17: 6.2 | E17: 9.4 | F17: 20.5 | G17: 2.8 | H17: 23.3 | I17: 75 | K17: -0.6
A18: 2017 | B18: 20.3 | C18: 5 | D18: 6.3 | E18: 9 | F18: 20.3 | G18: 3 | H18: 23.3 | I18: 75 | K18: -0.6
A19: 2018 | B19: 20.4 | C19: 5.1 | D19: 6.3 | E19: 8.7 | F19: 20.1 | G19: 3.1 | H19: 23.2 | I19: 75 | K19: -0.6
A20: 2019 | B20: 20.5 | C20: 5.1 | D20: 6.5 | E20: 8.6 | F20: 20.3 | G20: 3.2 | H20: 23.6 | I20: 75 | K20: -0.6
A21: 2020 | B21: 20.6 | C21: 5.2 | D21: 6.7 | E21: 8.5 | F21: 20.4 | G21: 3.3 | H21: 23.7 | I21: 75 | K21: -0.6
A22: 2021 | B22: 20.8 | C22: 5.3 | D22: 6.9 | E22: 8.3 | F22: 20.5 | G22: 3.4 | H22: 23.9 | I22: 76 | K22: -0.6
A23: 2022 | B23: 21 | C23: 5.4 | D23: 7 | E23: 8.2 | F23: 20.7 | G23: 3.5 | H23: 24.1 | I23: 76 | K23: -0.6
... A86: 2085 | B86: 30.6 | C86: 6.4 | D86: 17.2 | E86: 6.7 | F86: 30.4 | G86: 3.7 | H86: 34.1 | I86: 75 | K86: -1.9
B87: =(B86/B22) ^ (1/64) - 1 -> 0.0060502138
A88: a. Outlays for Medicare, Medicaid, CHIP, and exchange subsidies represent gross Medicare spending, federal outlays for Medicaid and CHIP, and outlays for health insurance subsidies provided through the exchanges established by the March 2010 health care legislation. (Net spending for Medicare equals gross Medicare spending less Medicare offsetting receipts.)
A92: b. Other noninterest spending includes Medicare offsetting receipts, which reduce total outlays.
A94: c. Medicare offsetting receipts, which reduce total outlays, consist of Medicare premiums, certain payments by states to Medicare, and amounts paid to providers and recovered.

Sheet LTBO alternative scenario
A2: Supplemental data
A4: CBO's Long-Term Budget Outlook (June 2011)
A6: Summary Data for the Alternative Fiscal Scenario
A7: (Percentage of gross domestic product)
C9: Outlays | K9: Memorandum:
A10: Fiscal Year | B10: Revenues | C10: Social Security | D10: Medicare, Medicaid, CHIP, and Exchange Subsidiesa | E10: Other Noninterest Spendingb | F10: Total Noninterest | G10: Net Interest | H10: Total Spending | I10: Debt | K10: Medicare Offsetting Receiptsc
A12: 2011 | B12: 14.8 | C12: 4.8 | D12: 5.6 | E12: 12.3 | F12: 22.7 | G12: 1.4 | H12: 24.1 | I12: 69 | K12: -0.5
A13: 2012 | B13: 16.2 | C13: 4.8 | D13: 5.4 | E13: 11.5 | F13: 21.7 | G13: 1.7 | H13: 23.4 | I13: 74 | K13: -0.5
A14: 2013 | B14: 17 | C14: 4.9 | D14: 5.5 | E14: 10.8 | F14: 21.2 | G14: 2 | H14: 23.2 | I14: 77 | K14: -0.6
A15: 2014 | B15: 17.5 | C15: 4.9 | D15: 5.8 | E15: 10.1 | F15: 20.8 | G15: 2.4 | H15: 23.1 | I15: 80 | K15: -0.6
A16: 2015 | B16: 17.6 | C16: 4.9 | D16: 6.1 | E16: 9.7 | F16: 20.7 | G16: 2.7 | H16: 23.4 | I16: 82 | K16: -0.6
A17: 2016 | B17: 17.6 | C17: 4.9 | D17: 6.3 | E17: 9.6 | F17: 20.8 | G17: 3.1 | H17: 23.9 | I17: 85 | K17: -0.6
A18: 2017 | B18: 18 | C18: 5 | D18: 6.5 | E18: 9.4 | F18: 20.8 | G18: 3.4 | H18: 24.2 | I18: 87 | K18: -0.6
A19: 2018 | B19: 18.1 | C19: 5.1 | D19: 6.6 | E19: 9.2 | F19: 20.7 | G19: 3.7 | H19: 24.4 | I19: 90 | K19: -0.6
A20: 2019 | B20: 18.2 | C20: 5.1 | D20: 6.7 | E20: 9.2 | F20: 21.1 | G20: 3.9 | H20: 25 | I20: 94 | K20: -0.7
A21: 2020 | B21: 18.3 | C21: 5.2 | D21: 6.9 | E21: 9.1 | F21: 21.3 | G21: 4.2 | H21: 25.5 | I21: 97 | K21: -0.7
A22: 2021 | B22: 18.4 | C22: 5.3 | D22: 7.1 | E22: 9.1 | F22: 21.5 | G22: 4.4 | H22: 25.9 | I22: 101 | K22: -0.7
A23: 2022 | B23: 18.4 | C23: 5.4 | D23: 7.4 | E23: 9 | F23: 21.8 | G23: 4.6 | H23: 26.4 | I23: 105 | K23: -0.7
... A37: 2036 | B37: 18.4 | C37: 6.1 | D37: 10.6 | E37: 8.5 | F37: 25.2 | G37: 9.3 | H37: 34.5 | I37: 195 | K37: -1.1
A38: 2037 | B38: 18.4 | C38: 6.1 | D38: 10.8 | E38: 8.5 | F38: 25.3 | G38: 9.7 | H38: 35.1 | I38: (Greater | K38: -1.1
A39: 2038 | B39: 18.4 | C39: 6.1 | D39: 11 | E39: 8.4 | F39: 25.5 | G39: 10.1 | H39: 35.6 | I39: than 200 | K39: -1.1
A40: 2039 | B40: 18.4 | C40: 6.1 | D40: 11.2 | E40: 8.4 | F40: 25.6 | G40: 10.6 | H40: 36.2 | I40: percent | K40: -1.2
A41: 2040 | B41: 18.4 | C41: 6 | D41: 11.4 | E41: 8.4 | F41: 25.8 | G41: 11.1 | H41: 36.8 | I41: in 2037 | K41: -1.2
A42: 2041 | B42: 18.4 | C42: 6 | D42: 11.5 | E42: 8.3 | F42: 25.9 | G42: 11.5 | H42: 37.4 | I42: and later) | K42: -1.2
A43: 2042 | B43: 18.4 | C43: 6 | D43: 11.7 | E43: 8.3 | F43: 26 | G43: 12 | H43: 38 | K43: -1.2
A44: 2043 | B44: 18.4 | C44: 6 | D44: 11.9 | E44: 8.3 | F44: 26.1 | G44: 12.4 | H44: 38.5 | K44: -1.2
A45: 2044 | B45: 18.4 | C45: 5.9 | D45: 12.1 | E45: 8.3 | F45: 26.2 | G45: 12.8 | H45: 39 | K45: -1.3
A46: 2045 | B46: 18.4 | C46: 5.9 | D46: 12.2 | E46: 8.2 | F46: 26.3 | G46: 13.2 | H46: 39.6 | K46: -1.3
A47: 2046 | B47: 18.4 | C47: 5.9 | D47: 12.4 | E47: 8.2 | F47: 26.5 | G47: 13.7 | H47: 40.2 | K47: -1.3
A48: 2047 | B48: 18.4 | C48: 5.9 | D48: 12.6 | E48: 8.2 | F48: 26.6 | G48: 14.1 | H48: 40.7 | K48: -1.3
A49: 2048 | B49: 18.4 | C49: 5.9 | D49: 12.7 | E49: 8.2 | F49: 26.7 | G49: 14.7 | H49: 41.4 | K49: -1.3
A50: 2049 | B50: 18.4 | C50: 5.9 | D50: 12.9 | E50: 8.1 | F50: 26.9 | G50: 15.2 | H50: 42.1 | K50: -1.4
A51: 2050 | B51: 18.4 | C51: 5.9 | D51: 13 | E51: 8.1 | F51: 27 | G51: 15.8 | H51: 42.8 | K51: -1.4
A52: 2051 | B52: 18.4 | C52: 5.9 | D52: 13.2 | E52: 8.1 | F52: 27.2 | G52: 16.3 | H52: 43.5 | K52: -1.4
A53: 2052 | B53: 18.4 | C53: 5.9 | D53: 13.4 | E53: 8 | F53: 27.3 | G53: 17 | H53: 44.3 | K53: -1.4
A54: 2053 | B54: 18.4 | C54: 5.9 | D54: 13.5 | E54: 8 | F54: 27.5 | G54: 17.6 | H54: 45.1 | K54: -1.4
... A86: 2085 | B86: 18.4 | C86: 6.4 | D86: 19.4 | E86: 7.1 | F86: 32.9 | G86: 43 | H86: 75.9 | K86: -2.2
A88: a. Outlays for Medicare, Medicaid, CHIP, and exchange subsidies represent gross Medicare spending, federal outlays for Medicaid and CHIP, and outlays for health insurance subsidies provided through the exchanges established by the March 2010 health care legislation. (Net spending for Medicare equals gross Medicare spending less Medicare offsetting receipts.)
A92: b. Other noninterest spending includes Medicare offsetting receipts, which reduce total outlays.
A94: c. Medicare offsetting receipts, which reduce total outlays, consist of Medicare premiums, certain payments by states to Medicare, and amounts paid to providers and recovered.

Sheet LTBO economic variables
A2: Supplemental data
A4: CBO's Long-Term Budget Outlook (June 2011)
A6: Economic Variables Underlying the Long-Term Budget Projections
A8: Fiscal Year | B8: Real Wage Growth for Workers Covered by Social Security (Percent) | C8: Growth in Consumer Price Index (Percent) | D8: Nominal Wage Growth for Workers Covered by Social Security (Percent) | E8: Average Real Annual Interest Rate (Percent) | F8: Average Annual Unemployment Rate (Percent) | G8: Real GDP (Fiscal Year, in 2011 dollars)
A10: 2011 | B10: 2.1 | C10: 1.5 | D10: 3.6 | E10: 1.8 | F10: 9.4 | G10: 15000
A11: 2012 | B11: 1 | C11: 1.2 | D11: 2.2 | E11: 2.6 | F11: 8.4 | G11: 15500
A12: 2013 | B12: 1.7 | C12: 1.5 | D12: 3.2 | E12: 2.7 | F12: 7.6 | G12: 16000
A13: 2014 | B13: 2.4 | C13: 1.8 | D13: 4.2 | E13: 2.7 | F13: 6.8 | G13: 16500
A14: 2015 | B14: 1.6 | C14: 2 | D14: 3.5 | E14: 3 | F14: 5.9 | G14: 17100
A15: 2016 | B15: 1.4 | C15: 2.2 | D15: 3.6 | E15: 3.1 | F15: 5.3 | G15: 17700
A16: 2017 | B16: 1.4 | C16: 2.4 | D16: 3.8 | E16: 3 | F16: 5.3 | G16: 18200
A17: 2018 | B17: 2 | C17: 2.4 | D17: 4.4 | E17: 3.1 | F17: 5.3 | G17: 18600
A18: 2019 | B18: 1.9 | C18: 2.3 | D18: 4.2 | E18: 3.1 | F18: 5.2 | G18: 19000
A19: 2020 | B19: 1.4 | C19: 2.3 | D19: 3.8 | E19: 3.1 | F19: 5.2 | G19: 19500
A20: 2021 | B20: 1.3 | C20: 2.3 | D20: 3.7 | E20: 3.1 | F20: 5.2 | G20: 19900
A21: 2022 | B21: 1.2 | C21: 2.4 | D21: 3.5 | E21: 3 | F21: 5.2 | G21: 20400
... A33: 2034 | B33: 1.5 | C33: 2.5 | D33: 4 | E33: 3 | F33: 5 | G33: 26100
A34: 2035 | B34: 1.5 | C34: 2.5 | D34: 4 | E34: 3 | F34: 5 | G34: 26700 | H34: =(G34 / G20) ^ ( 1/14) - 1 -> 0.021217955 | I34: Real 2021-35 GDP growth rate
A35: 2036 | B35: 1.5 | C35: 2.5 | D35: 4 | E35: 3 | F35: 5 | G35: 27300
A36: 2037 | B36: 1.5 | C36: 2.5 | D36: 4 | E36: 3 | F36: 5 | G36: 27800
A37: 2038 | B37: 1.5 | C37: 2.5 | D37: 4 | E37: 3 | F37: 5 | G37: 28400
A38: 2039 | B38: 1.6 | C38: 2.5 | D38: 4.1 | E38: 3 | F38: 5 | G38: 29100
A39: 2040 | B39: 1.4 | C39: 2.5 | D39: 3.9 | E39: 3 | F39: 5 | G39: 29700
A40: 2041 | B40: 1.6 | C40: 2.5 | D40: 4.1 | E40: 3 | F40: 5 | G40: 30400
A41: 2042 | B41: 1.5 | C41: 2.5 | D41: 4 | E41: 3 | F41: 5 | G41: 31100
A42: 2043 | B42: 1.5 | C42: 2.5 | D42: 4 | E42: 3 | F42: 5 | G42: 31800
A43: 2044 | B43: 1.5 | C43: 2.5 | D43: 4 | E43: 3 | F43: 5 | G43: 32500
A44: 2045 | B44: 1.6 | C44: 2.5 | D44: 4.1 | E44: 3 | F44: 5 | G44: 33300
A45: 2046 | B45: 1.5 | C45: 2.5 | D45: 4 | E45: 3 | F45: 5 | G45: 34000
A46: 2047 | B46: 1.5 | C46: 2.5 | D46: 4 | E46: 3 | F46: 5 | G46: 34800
... A84: 2085 | B84: 1.4 | C84: 2.5 | D84: 3.9 | E84: 3 | F84: 5 | G84: 79300
A86: Note: The average annual interest rate is the rate on 10-year government debt. The average effective interest rate on all federal debt is 0.3 percentage points lower.

Sheet new extended
A1: Billions of Dollars
F2: Actual,
F3: 2010 | G3: 2011 | H3: 2012 | I3: 2013 | J3: 2014 | K3: 2015 | L3: 2016 | M3: 2017 | N3: 2018 | O3: 2019 | P3: 2020 | Q3: 2021 | R3: 2022 | S3: 2023 | T3: 2024 | U3: 2025 | V3: 2026 | W3: 2027 | X3: 2028 | Y3: 2029 | Z3: 2030 | AA3: 2031 | AB3: 2032 | AC3: 2033 | AD3: 2034 | AE3: 2035
A4: Revenues
C5: Total Revenues | F5: ='CBO baseline'!F13 -> 2162.7241 | G5: ='CBO baseline'!G13 -> 2313.8351 | H5: ='CBO baseline'!H13 -> 2635.3801 | I5: ='CBO baseline'!I13 -> 3069.106 | J5: ='CBO baseline'!J13 -> 3423.1684 | K5: ='CBO baseline'!K13 -> 3665.2916 | L5: ='CBO baseline'!L13 -> 3846.8717 | M5: ='CBO baseline'!M13 -> 4087.4636 | ... Q5: ='CBO baseline'!Q13 -> 4969.2071
A7: Outlays
C8: Social Security | F8: ='CBO mandatory spending'!F9 -> 700.752 | G8: ='CBO mandatory spending'!G9 -> 725.591 | H8: ='CBO mandatory spending'!H9 -> 768.676 | I8: ='CBO mandatory spending'!I9 -> 811.821 | J8: ='CBO mandatory spending'!J9 -> 853.288 | K8: ='CBO mandatory spending'!K9 -> 896.746 | L8: ='CBO mandatory spending'!L9 -> 945.469 | M8: ='CBO mandatory spending'!M9 -> 1001.387 | ... Q8: ='CBO mandatory spending'!Q9 -> 1276.081
D9: Medicare (gross) | F9: ='CBO mandatory spending'!F12 -> 520.486 | G9: ='CBO mandatory spending'!G12 -> 555.434 | H9: ='CBO mandatory spending'!H12 -> 555.321 | I9: ='CBO mandatory spending'!I12 -> 597.829 | J9: ='CBO mandatory spending'!J12 -> 631.62 | K9: ='CBO mandatory spending'!K12 -> 662.078 | L9: ='CBO mandatory spending'!L12 -> 717.59 | M9: ='CBO mandatory spending'!M12 -> 746.47 | ... Q9: ='CBO mandatory spending'!Q12 -> 966.14
D10: Medicare offsets | F10: ='CBO mandatory spending'!F66 -> -74.009 | G10: ='CBO mandatory spending'!G66 -> -78.858 | H10: ='CBO mandatory spending'!H66 -> -83.869 | I10: ='CBO mandatory spending'!I66 -> -85.739 | J10: ='CBO mandatory spending'!J66 -> -90.116 | K10: ='CBO mandatory spending'!K66 -> -96.863 | L10: ='CBO mandatory spending'!L66 -> -104.894 | M10: ='CBO mandatory spending'!M66 -> -113.773 | ... Q10: ='CBO mandatory spending'!Q66 -> -147.702
C11: Medicare (net) | F11: =SUM(F9:F10) -> 446.477 | G11: =SUM(G9:G10) -> 476.576 | H11: =SUM(H9:H10) -> 471.452 | I11: =SUM(I9:I10) -> 512.09 | J11: =SUM(J9:J10) -> 541.504 | K11: =SUM(K9:K10) -> 565.215 | L11: =SUM(L9:L10) -> 612.696 | M11: =SUM(M9:M10) -> 632.697 | ... Q11: =SUM(Q9:Q10) -> 818.438
C12: Medicaid | F12: ='CBO mandatory spending'!F13 -> 272.771 | G12: ='CBO mandatory spending'!G13 -> 274.399 | H12: ='CBO mandatory spending'!H13 -> 259.436 | I12: ='CBO mandatory spending'!I13 -> 275.935 | J12: ='CBO mandatory spending'!J13 -> 324.531 | K12: ='CBO mandatory spending'!K13 -> 364.213 | L12: ='CBO mandatory spending'!L13 -> 403.677 | M12: ='CBO mandatory spending'!M13 -> 430.294 | ... Q12: ='CBO mandatory spending'!Q13 -> 561.365
C13: CHIP and exchange subsidies | F13: =SUM('CBO mandatory spending'!F16,'CBO mandatory spending'!F19) -> 7.888 | G13: =SUM('CBO mandatory spending'!G16,'CBO mandatory spending'!G19) -> 8.658 | H13: =SUM('CBO mandatory spending'!H16,'CBO mandatory spending'!H19) -> 9.433 | I13: =SUM('CBO mandatory spending'!I16,'CBO mandatory spending'!I19) -> 10.096 | J13: =SUM('CBO mandatory spending'!J16,'CBO mandatory spending'!J19) -> 25.185 | K13: =SUM('CBO mandatory spending'!K16,'CBO mandatory spending'!K19) -> 44.124 | L13: =SUM('CBO mandatory spending'!L16,'CBO mandatory spending'!L19) -> 66.013 | M13: =SUM('CBO mandatory spending'!M16,'CBO mandatory spending'!M19) -> 78.435 | ... Q13: =SUM('CBO mandatory spending'!Q16,'CBO mandatory spending'!Q19) -> 102.074
C14: Other healthcare | F14: =SUM('CBO mandatory spending'!F17,'CBO mandatory spending'!F20) -> 9.284 | G14: =SUM('CBO mandatory spending'!G17,'CBO mandatory spending'!G20) -> 13.573 | H14: =SUM('CBO mandatory spending'!H17,'CBO mandatory spending'!H20) -> 16.525 | I14: =SUM('CBO mandatory spending'!I17,'CBO mandatory spending'!I20) -> 17.038 | J14: =SUM('CBO mandatory spending'!J17,'CBO mandatory spending'!J20) -> 24 | K14: =SUM('CBO mandatory spending'!K17,'CBO mandatory spending'!K20) -> 37.702 | L14: =SUM('CBO mandatory spending'!L17,'CBO mandatory spending'!L20) -> 36.001 | M14: =SUM('CBO mandatory spending'!M17,'CBO mandatory spending'!M20) -> 38.787 | ... Q14: =SUM('CBO mandatory spending'!Q17,'CBO mandatory spending'!Q20) -> 54.246
C15: Other mandatory | F15: =SUM('CBO mandatory spending'!F34,'CBO mandatory spending'!F41,'CBO mandatory spending'!F47,'CBO mandatory spending'!F57,'CBO mandatory spending'!F68,'CBO mandatory spending'!F69) -> 475.728 | G15: =SUM('CBO mandatory spending'!G34,'CBO mandatory spending'!G41,'CBO mandatory spending'!G47,'CBO mandatory spending'!G57,'CBO mandatory spending'!G68,'CBO mandatory spending'!G69) -> 523.861 | H15: =SUM('CBO mandatory spending'!H34,'CBO mandatory spending'!H41,'CBO mandatory spending'!H47,'CBO mandatory spending'!H57,'CBO mandatory spending'!H68,'CBO mandatory spending'!H69) -> 530.23 | I15: =SUM('CBO mandatory spending'!I34,'CBO mandatory spending'!I41,'CBO mandatory spending'!I47,'CBO mandatory spending'!I57,'CBO mandatory spending'!I68,'CBO mandatory spending'!I69) -> 502.181 | J15: =SUM('CBO mandatory spending'!J34,'CBO mandatory spending'!J41,'CBO mandatory spending'!J47,'CBO mandatory spending'!J57,'CBO mandatory spending'!J68,'CBO mandatory spending'!J69) -> 442.83 | K15: =SUM('CBO mandatory spending'!K34,'CBO mandatory spending'!K41,'CBO mandatory spending'!K47,'CBO mandatory spending'!K57,'CBO mandatory spending'!K68,'CBO mandatory spending'!K69) -> 431.86 | L15: =SUM('CBO mandatory spending'!L34,'CBO mandatory spending'!L41,'CBO mandatory spending'!L47,'CBO mandatory spending'!L57,'CBO mandatory spending'!L68,'CBO mandatory spending'!L69) -> 446.761 | M15: =SUM('CBO mandatory spending'!M34,'CBO mandatory spending'!M41,'CBO mandatory spending'!M47,'CBO mandatory spending'!M57,'CBO mandatory spending'!M68,'CBO mandatory spending'!M69) -> 434.29 | ... Q15: =SUM('CBO mandatory spending'!Q34,'CBO mandatory spending'!Q41,'CBO mandatory spending'!Q47,'CBO mandatory spending'!Q57,'CBO mandatory spending'!Q68,'CBO mandatory spending'!Q69) -> 469.84
B16: Mandatory spending | F16: =SUM(F8,F11:F15) -> 1912.9 | G16: =SUM(G8,G11:G15) -> 2022.658 | H16: =SUM(H8,H11:H15) -> 2055.752 | I16: =SUM(I8,I11:I15) -> 2129.161 | J16: =SUM(J8,J11:J15) -> 2211.338 | K16: =SUM(K8,K11:K15) -> 2339.86 | L16: =SUM(L8,L11:L15) -> 2510.617 | M16: =SUM(M8,M11:M15) -> 2615.89 | ... Q16: =SUM(Q8,Q11:Q15) -> 3282.044
B17: Discretionary spending | F17: ='CBO baseline'!F19 -> 1347.149 | G17: ='CBO baseline'!G19 -> 1353.437 | H17: ='CBO baseline'!H19 -> 1315.082 | I17: ='CBO baseline'!I19 -> 1299.84 | J17: ='CBO baseline'!J19 -> 1300.733 | K17: ='CBO baseline'!K19 -> 1311.302 | L17: ='CBO baseline'!L19 -> 1332.114 | M17: ='CBO baseline'!M19 -> 1349.821 | ... Q17: ='CBO baseline'!Q19 -> 1464.158
B18: Net interest | F18: ='CBO baseline'!F20 -> 196.194 | G18: ='CBO baseline'!G20 -> 221.302 | H18: ='CBO baseline'!H20 -> 237.762 | I18: ='CBO baseline'!I20 -> 263.14 | J18: ='CBO baseline'!J20 -> 290.762 | K18: ='CBO baseline'!K20 -> 336.378 | L18: ='CBO baseline'!L20 -> 406.563 | M18: ='CBO baseline'!M20 -> 483.776 | ... Q18: ='CBO baseline'!Q20 -> 663.129
F19: _____ | G19: _____ | H19: _____ | I19: _____ | J19: _____ | K19: _____ | L19: _____ | M19: _____ | N19: _____ | O19: _____ | P19: _____ | Q19: _____
C20: Total Outlays | F20: =SUM(F16:F18) -> 3456.243 | G20: =SUM(G16:G18) -> 3597.397 | H20: =SUM(H16:H18) -> 3608.596 | I20: =SUM(I16:I18) -> 3692.141 | J20: =SUM(J16:J18) -> 3802.833 | K20: =SUM(K16:K18) -> 3987.54 | L20: =SUM(L16:L18) -> 4249.294 | M20: =SUM(M16:M18) -> 4449.487 | ... Q20: =SUM(Q16:Q18) -> 5409.331
A22: Balance ex-Joint Select Committee | F22: =F5 - F20 -> -1293.5189 | G22: =G5 - G20 -> -1283.5619 | H22: =H5 - H20 -> -973.21592 | I22: =I5 - I20 -> -623.035 | J22: =J5 - J20 -> -379.66458 | K22: =K5 - K20 -> -322.24836 | L22: =L5 - L20 -> -402.42227 | M22: =M5 - M20 -> -362.02345 | ... Q22: =Q5 - Q20 -> -440.12395
A24: Joint Select Committee
B25: Policy changes | F25: 0 | G25: 0 | H25: 0 | I25: 111.4434 | J25: 111.4434 | K25: 111.4434 | L25: 111.4434 | M25: 111.4434 | N25: 111.4434 | O25: 111.4434 | P25: 111.4434 | Q25: 111.4434
B26: Debt service | F26: 0 | G26: 0 | H26: 0 | I26: 1.1032897 | J26: 3.1315595 | K26: 6.1739644 | L26: 12.492805 | M26: 20.070956 | N26: 27.281344 | O26: 34.61432 | P26: 42.170183 | Q26: 49.971221
F27: _ | G27: _ | H27: _ | I27: ___ | J27: ___ | K27: ___ | L27: ___ | M27: ___ | N27: ___ | O27: ___ | P27: ___ | Q27: ___
C28: Total Effects | F28: =SUM(F25:F26) -> 0 | G28: =SUM(G25:G26) -> 0 | H28: =SUM(H25:H26) -> 0 | I28: =SUM(I25:I26) -> 112.54669 | J28: =SUM(J25:J26) -> 114.57496 | K28: =SUM(K25:K26) -> 117.61736 | L28: =SUM(L25:L26) -> 123.93621 | M28: =SUM(M25:M26) -> 131.51436 | ... Q28: =SUM(Q25:Q26) -> 161.41462
A30: Total Balance | F30: =SUM(F22,F28) -> -1293.5189 | G30: =SUM(G22,G28) -> -1283.5619 | H30: =SUM(H22,H28) -> -973.21592 | I30: =SUM(I22,I28) -> -510.48831 | J30: =SUM(J22,J28) -> -265.08962 | K30: =SUM(K22,K28) -> -204.631 | L30: =SUM(L22,L28) -> -278.48606 | M30: =SUM(M22,M28) -> -230.50909 | ... Q30: =SUM(Q22,Q28) -> -278.70933
A31: Memo: Primary Balance | F31: =F30 + F32 -> -1097.3249 | G31: =G30 + G32 -> -1062.2599 | H31: =H30 + H32 -> -735.45392 | I31: =I30 + I32 -> -248.4516 | J31: =J30 + J32 -> 22.540821 | K31: =K30 + K32 -> 125.57304 | L31: =L30 + L32 -> 115.58413 | M31: =M30 + M32 -> 233.19595 | ... Q31: =Q30 + Q32 -> 334.44845
A32: Memo: Net Interest | F32: =F18 - F26 -> 196.194 | G32: =G18 - G26 -> 221.302 | H32: =H18 - H26 -> 237.762 | I32: =I18 - I26 -> 262.03671 | J32: =J18 - J26 -> 287.63044 | K32: =K18 - K26 -> 330.20404 | L32: =L18 - L26 -> 394.07019 | M32: =M18 - M26 -> 463.70504 | ... Q32: =Q18 - Q26 -> 613.15778
A34: Other Means of Financing (Increase in Debt) | E34: BEOU, Table 1-7 | G34: -138.39 | H34: 15.598904 | I34: 109.97229 | J34: 109.60915 | K34: 109.99747 | L34: 98.61321 | M34: 98.763367 | N34: 93.540917 | O34: 88.170841 | P34: 83.895115 | Q34: 81.741363
A36: End of Year Public Debt | F36: ='CBO baseline'!F41 -> 9018.941 | G36: =F36 - G30 + G34 -> 10164.113 | H36: =G36 - H30 + H34 -> 11152.928 | I36: =H36 - I30 + I34 -> 11773.388 | J36: =I36 - J30 + J34 -> 12148.087 | K36: =J36 - K30 + K34 -> 12462.716 | L36: =K36 - L30 + L34 -> 12839.815 | M36: =L36 - M30 + M34 -> 13169.087 | N36: =M36 - N30 + N34 -> 13473.325 | ... Q36: =P36 - Q30 + Q34 -> 14541.093
A38: As Percentage of GDP
A40: GDP ($ Billions) | F40: ='CBO baseline'!F89 -> 14511.875 | G40: ='CBO baseline'!G89 -> 15095.075 | H40: ='CBO baseline'!H89 -> 15663.455 | I40: ='CBO baseline'!I89 -> 16181.564 | J40: ='CBO baseline'!J89 -> 16974.234 | K40: ='CBO baseline'!K89 -> 18132.445 | L40: ='CBO baseline'!L89 -> 19109.848 | M40: ='CBO baseline'!M89 -> 20027.825 | ... Q40: ='CBO baseline'!Q89 -> 23829.883
A42: Revenues
C43: Total Revenues | F43: =100 * F5/F$40 -> 14.903134 | G43: =100 * G5/G$40 -> 15.328411 | H43: =100 * H5/H$40 -> 16.825024 | I43: =100 * I5/I$40 -> 18.966683 | J43: =100 * J5/J$40 -> 20.166851 | K43: =100 * K5/K$40 -> 20.213995 | L43: =100 * L5/L$40 -> 20.13031 | M43: =100 * M5/M$40 -> 20.408924 | ... Q43: =100 * Q5/Q$40 -> 20.852839 | R43: =Q43 * (1 + LTBO!$F$49) -> 21.016126 | S43: =R43 * (1 + LTBO!$F$49) -> 21.180692 | T43: =S43 * (1 + LTBO!$F$49) -> 21.346546 | U43: =T43 * (1 + LTBO!$F$49) -> 21.513699 | V43: =U43 * (1 + LTBO!$F$49) -> 21.682161 | W43: =V43 * (1 + LTBO!$F$49) -> 21.851942 | X43: =W43 * (1 + LTBO!$F$49) -> 22.023053 | Y43: =X43 * (1 + LTBO!$F$49) -> 22.195503 | ... AE43: =AD43 * (1 + LTBO!$F$49) -> 23.258936
A45: Outlays
C46: Social Security | F46: =100 * F8/F$40 -> 4.8288178 | G46: =100 * G8/G$40 -> 4.8068062 | H46: =100 * H8/H$40 -> 4.9074486 | I46: =100 * I8/I$40 -> 5.01695 | J46: =100 * J8/J$40 -> 5.0269603 | K46: =100 * K8/K$40 -> 4.9455327 | L46: =100 * L8/L$40 -> 4.9475484 | M46: =100 * M8/M$40 -> 4.9999788 | ... Q46: =100 * Q8/Q$40 -> 5.3549614
D47: Medicare (gross) | F47: =100 * F9/F$40 -> 3.5866213 | G47: =100 * G9/G$40 -> 3.679571 | H47: =100 * H9/H$40 -> 3.545329 | I47: =100 * I9/I$40 -> 3.6945068 | J47: =100 * J9/J$40 -> 3.7210516 | K47: =100 * K9/K$40 -> 3.6513443 | L47: =100 * L9/L$40 -> 3.7550795 | M47: =100 * M9/M$40 -> 3.7271646 | ... Q47: =100 * Q9/Q$40 -> 4.0543213
D48: Medicare offsets | F48: =100 * F10/F$40 -> -0.50998923 | G48: =100 * G10/G$40 -> -0.5224088 | H48: =100 * H10/H$40 -> -0.53544382 | I48: =100 * I10/I$40 -> -0.52985606 | J48: =100 * J10/J$40 -> -0.53089878 | K48: =100 * K10/K$40 -> -0.53419712 | L48: =100 * L10/L$40 -> -0.54890022 | M48: =100 * M10/M$40 -> -0.56807466 | ... Q48: =100 * Q10/Q$40 -> -0.61981841
C49: Medicare (net) | F49: =100 * F11/F$40 -> 3.0766321 | G49: =100 * G11/G$40 -> 3.1571622 | H49: =100 * H11/H$40 -> 3.0098852 | I49: =100 * I11/I$40 -> 3.1646507 | J49: =100 * J11/J$40 -> 3.1901528 | K49: =100 * K11/K$40 -> 3.1171472 | L49: =100 * L11/L$40 -> 3.2061793 | M49: =100 * M11/M$40 -> 3.1590899 | ... Q49: =100 * Q11/Q$40 -> 3.4345029
C50: Medicaid | F50: =100 * F12/F$40 -> 1.87964 | G50: =100 * G12/G$40 -> 1.8178048 | H50: =100 * H12/H$40 -> 1.656314 | I50: =100 * I12/I$40 -> 1.705243 | J50: =100 * J12/J$40 -> 1.9119037 | K50: =100 * K12/K$40 -> 2.008626 | L50: =100 * L12/L$40 -> 2.1124029 | M50: =100 * M12/M$40 -> 2.1484809 | ... Q50: =100 * Q12/Q$40 -> 2.3557187
...

Sheet realistic (no tax cuts)
A1: Billions of Dollars
F2: Actual,
F3: 2010 | G3: 2011 | H3: 2012 | I3: 2013 | J3: 2014 | K3: 2015 | L3: 2016 | M3: 2017 | N3: 2018 | O3: 2019 | P3: 2020 | Q3: 2021 | R3: 2022 | S3: 2023 | T3: 2024 | U3: 2025 | V3: 2026 | W3: 2027 | X3: 2028 | Y3: 2029 | Z3: 2030 | AA3: 2031 | AB3: 2032 | AC3: 2033 | AD3: 2034 | AE3: 2035
A4: Revenues
C5: Total Revenues | F5: ='CBO baseline'!F13 -> 2162.7241 | G5: ='CBO baseline'!G13 -> 2313.8351 | H5: ='CBO baseline'!H13 -> 2635.3801 | I5: ='CBO baseline'!I13 -> 3069.106 | J5: ='CBO baseline'!J13 -> 3423.1684 | K5: ='CBO baseline'!K13 -> 3665.2916 | L5: ='CBO baseline'!L13 -> 3846.8717 | M5: ='CBO baseline'!M13 -> 4087.4636 | ... Q5: ='CBO baseline'!Q13 -> 4969.2071
D6: AMT Patch | G6: ='CBO alternatives'!D47 -> 0 | H6: ='CBO alternatives'!E47 -> -9.016 | I6: ='CBO alternatives'!F47 -> -92.514 | J6: ='CBO alternatives'!G47 -> -39.477 | K6: ='CBO alternatives'!H47 -> -45.455 | L6: ='CBO alternatives'!I47 -> -53.387 | M6: ='CBO alternatives'!J47 -> -62.539 | N6: ='CBO alternatives'!K47 -> -74.009 | ... Q6: ='CBO alternatives'!N47 -> -121.326
D7: Adjusted Total Revenues | F7: =SUM(F5:F6) -> 2162.7241 | G7: =SUM(G5:G6) -> 2313.8351 | H7: =SUM(H5:H6) -> 2626.3641 | I7: =SUM(I5:I6) -> 2976.592 | J7: =SUM(J5:J6) -> 3383.6914 | K7: =SUM(K5:K6) -> 3619.8366 | L7: =SUM(L5:L6) -> 3793.4847 | M7: =SUM(M5:M6) -> 4024.9246 | ... Q7: =SUM(Q5:Q6) -> 4847.8811
A9: Outlays
C10: Social Security | F10: ='CBO mandatory spending'!F9 -> 700.752 | G10: ='CBO mandatory spending'!G9 -> 725.591 | H10: ='CBO mandatory spending'!H9 -> 768.676 | I10: ='CBO mandatory spending'!I9 -> 811.821 | J10: ='CBO mandatory spending'!J9 -> 853.288 | K10: ='CBO mandatory spending'!K9 -> 896.746 | L10: ='CBO mandatory spending'!L9 -> 945.469 | M10: ='CBO mandatory spending'!M9 -> 1001.387 | ... Q10: ='CBO mandatory spending'!Q9 -> 1276.081
D11: Medicare (gross) | F11: ='CBO mandatory spending'!F12 -> 520.486 | G11: ='CBO mandatory spending'!G12 -> 555.434 | H11: ='CBO mandatory spending'!H12 -> 555.321 | I11: ='CBO mandatory spending'!I12 -> 597.829 | J11: ='CBO mandatory spending'!J12 -> 631.62 | K11: ='CBO mandatory spending'!K12 -> 662.078 | L11: ='CBO mandatory spending'!L12 -> 717.59 | M11: ='CBO mandatory spending'!M12 -> 746.47 | ... Q11: ='CBO mandatory spending'!Q12 -> 966.14
D12: Doc Fix | G12: =-'CBO alternatives'!D36 -> 0 | H12: =-'CBO alternatives'!E36 -> 12.024 | I12: =-'CBO alternatives'!F36 -> 19.086 | J12: =-'CBO alternatives'!G36 -> 22.881 | K12: =-'CBO alternatives'!H36 -> 26.055 | L12: =-'CBO alternatives'!I36 -> 28.839 | M12: =-'CBO alternatives'!J36 -> 31.286 | N12: =-'CBO alternatives'!K36 -> 33.884 | ... Q12: =-'CBO alternatives'!N36 -> 45.086
D13: Adjusted Medicare (gross) | F13: =SUM(F11:F12) -> 520.486 | G13: =SUM(G11:G12) -> 555.434 | H13: =SUM(H11:H12) -> 567.345 | I13: =SUM(I11:I12) -> 616.915 | J13: =SUM(J11:J12) -> 654.501 | K13: =SUM(K11:K12) -> 688.133 | L13: =SUM(L11:L12) -> 746.429 | M13: =SUM(M11:M12) -> 777.756 | ... Q13: =SUM(Q11:Q12) -> 1011.226
D14: Medicare offsets | F14: ='CBO mandatory spending'!F66 -> -74.009 | G14: ='CBO mandatory spending'!G66 -> -78.858 | H14: ='CBO mandatory spending'!H66 -> -83.869 | I14: ='CBO mandatory spending'!I66 -> -85.739 | J14: ='CBO mandatory spending'!J66 -> -90.116 | K14: ='CBO mandatory spending'!K66 -> -96.863 | L14: ='CBO mandatory spending'!L66 -> -104.894 | M14: ='CBO mandatory spending'!M66 -> -113.773 | ... Q14: ='CBO mandatory spending'!Q66 -> -147.702
C15: Medicare (net) | F15: =SUM(F13:F14) -> 446.477 | G15: =SUM(G13:G14) -> 476.576 | H15: =SUM(H13:H14) -> 483.476 | I15: =SUM(I13:I14) -> 531.176 | J15: =SUM(J13:J14) -> 564.385 | K15: =SUM(K13:K14) -> 591.27 | L15: =SUM(L13:L14) -> 641.535 | M15: =SUM(M13:M14) -> 663.983 | ... Q15: =SUM(Q13:Q14) -> 863.524
C16: Medicaid | F16: ='CBO mandatory spending'!F13 -> 272.771 | G16: ='CBO mandatory spending'!G13 -> 274.399 | H16: ='CBO mandatory spending'!H13 -> 259.436 | I16: ='CBO mandatory spending'!I13 -> 275.935 | J16: ='CBO mandatory spending'!J13 -> 324.531 | K16: ='CBO mandatory spending'!K13 -> 364.213 | L16: ='CBO mandatory spending'!L13 -> 403.677 | M16: ='CBO mandatory spending'!M13 -> 430.294 | ... Q16: ='CBO mandatory spending'!Q13 -> 561.365
C17: CHIP and exchange subsidies | F17: =SUM('CBO mandatory spending'!F16,'CBO mandatory spending'!F19) -> 7.888 | G17: =SUM('CBO mandatory spending'!G16,'CBO mandatory spending'!G19) -> 8.658 | H17: =SUM('CBO mandatory spending'!H16,'CBO mandatory spending'!H19) -> 9.433 | I17: =SUM('CBO mandatory spending'!I16,'CBO mandatory spending'!I19) -> 10.096 | J17: =SUM('CBO mandatory spending'!J16,'CBO mandatory spending'!J19) -> 25.185 | K17: =SUM('CBO mandatory spending'!K16,'CBO mandatory spending'!K19) -> 44.124 | L17: =SUM('CBO mandatory spending'!L16,'CBO mandatory spending'!L19) -> 66.013 | M17: =SUM('CBO mandatory spending'!M16,'CBO mandatory spending'!M19) -> 78.435 | ... Q17: =SUM('CBO mandatory spending'!Q16,'CBO mandatory spending'!Q19) -> 102.074
C18: Other healthcare | F18: =SUM('CBO mandatory spending'!F17,'CBO mandatory spending'!F20) -> 9.284 | G18: =SUM('CBO mandatory spending'!G17,'CBO mandatory spending'!G20) -> 13.573 | H18: =SUM('CBO mandatory spending'!H17,'CBO mandatory spending'!H20) -> 16.525 | I18: =SUM('CBO mandatory spending'!I17,'CBO mandatory spending'!I20) -> 17.038 | J18: =SUM('CBO mandatory spending'!J17,'CBO mandatory spending'!J20) -> 24 | K18: =SUM('CBO mandatory spending'!K17,'CBO mandatory spending'!K20) -> 37.702 | L18: =SUM('CBO mandatory spending'!L17,'CBO mandatory spending'!L20) -> 36.001 | M18: =SUM('CBO mandatory spending'!M17,'CBO mandatory spending'!M20) -> 38.787 | ... Q18: =SUM('CBO mandatory spending'!Q17,'CBO mandatory spending'!Q20) -> 54.246
C19: Other mandatory | F19: =SUM('CBO mandatory spending'!F34,'CBO mandatory spending'!F41,'CBO mandatory spending'!F47,'CBO mandatory spending'!F57,'CBO mandatory spending'!F68,'CBO mandatory spending'!F69) -> 475.728 | G19: =SUM('CBO mandatory spending'!G34,'CBO mandatory spending'!G41,'CBO mandatory spending'!G47,'CBO mandatory spending'!G57,'CBO mandatory spending'!G68,'CBO mandatory spending'!G69) -> 523.861 | H19: =SUM('CBO mandatory spending'!H34,'CBO mandatory spending'!H41,'CBO mandatory spending'!H47,'CBO mandatory spending'!H57,'CBO mandatory spending'!H68,'CBO mandatory spending'!H69) -> 530.23 | I19: =SUM('CBO mandatory spending'!I34,'CBO mandatory spending'!I41,'CBO mandatory spending'!I47,'CBO mandatory spending'!I57,'CBO mandatory spending'!I68,'CBO mandatory spending'!I69) -> 502.181 | J19: =SUM('CBO mandatory spending'!J34,'CBO mandatory spending'!J41,'CBO mandatory spending'!J47,'CBO mandatory spending'!J57,'CBO mandatory spending'!J68,'CBO mandatory spending'!J69) -> 442.83 | K19: =SUM('CBO mandatory spending'!K34,'CBO mandatory spending'!K41,'CBO mandatory spending'!K47,'CBO mandatory spending'!K57,'CBO mandatory spending'!K68,'CBO mandatory spending'!K69) -> 431.86 | L19: =SUM('CBO mandatory spending'!L34,'CBO mandatory spending'!L41,'CBO mandatory spending'!L47,'CBO mandatory spending'!L57,'CBO mandatory spending'!L68,'CBO mandatory spending'!L69) -> 446.761 | M19: =SUM('CBO mandatory spending'!M34,'CBO mandatory spending'!M41,'CBO mandatory spending'!M47,'CBO mandatory spending'!M57,'CBO mandatory spending'!M68,'CBO mandatory spending'!M69) -> 434.29 | ... Q19: =SUM('CBO mandatory spending'!Q34,'CBO mandatory spending'!Q41,'CBO mandatory spending'!Q47,'CBO mandatory spending'!Q57,'CBO mandatory spending'!Q68,'CBO mandatory spending'!Q69) -> 469.84
B20: Mandatory spending | F20: =SUM(F10,F15:F19) -> 1912.9 | G20: =SUM(G10,G15:G19) -> 2022.658 | H20: =SUM(H10,H15:H19) -> 2067.776 | I20: =SUM(I10,I15:I19) -> 2148.247 | J20: =SUM(J10,J15:J19) -> 2234.219 | K20: =SUM(K10,K15:K19) -> 2365.915 | L20: =SUM(L10,L15:L19) -> 2539.456 | M20: =SUM(M10,M15:M19) -> 2647.176 | ... Q20: =SUM(Q10,Q15:Q19) -> 3327.13
B21: Discretionary spending | F21: ='CBO baseline'!F19 -> 1347.149 | G21: ='CBO baseline'!G19 -> 1353.437 | H21: ='CBO baseline'!H19 -> 1315.082 | I21: ='CBO baseline'!I19 -> 1299.84 | J21: ='CBO baseline'!J19 -> 1300.733 | K21: ='CBO baseline'!K19 -> 1311.302 | L21: ='CBO baseline'!L19 -> 1332.114 | M21: ='CBO baseline'!M19 -> 1349.821 | ... Q21: ='CBO baseline'!Q19 -> 1464.158
C22: Overseas Contingency Operations | G22: =-'CBO alternatives'!D15 -> 0 | H22: =-'CBO alternatives'!E15 -> -18.343 | I22: =-'CBO alternatives'!F15 -> -52.991 | J22: =-'CBO alternatives'!G15 -> -85.612 | K22: =-'CBO alternatives'!H15 -> -112.317 | L22: =-'CBO alternatives'!I15 -> -128.991 | M22: =-'CBO alternatives'!J15 -> -136.274 | N22: =-'CBO alternatives'!K15 -> -141.272 | ... Q22: =-'CBO alternatives'!N15 -> -152.205
C23: Adjusted discretionary spending | F23: =SUM(F21:F22) -> 1347.149 | G23: =SUM(G21:G22) -> 1353.437 | H23: =SUM(H21:H22) -> 1296.739 | I23: =SUM(I21:I22) -> 1246.849 | J23: =SUM(J21:J22) -> 1215.121 | K23: =SUM(K21:K22) -> 1198.985 | L23: =SUM(L21:L22) -> 1203.123 | M23: =SUM(M21:M22) -> 1213.547 | ... Q23: =SUM(Q21:Q22) -> 1311.953
B24: Net interest | F24: ='CBO baseline'!F20 -> 196.194 | G24: ='CBO baseline'!G20 -> 221.302 | H24: ='CBO baseline'!H20 -> 237.762 | I24: ='CBO baseline'!I20 -> 263.14 | J24: ='CBO baseline'!J20 -> 290.762 | K24: ='CBO baseline'!K20 -> 336.378 | L24: ='CBO baseline'!L20 -> 406.563 | M24: ='CBO baseline'!M20 -> 483.776 | ... Q24: ='CBO baseline'!Q20 -> 663.129
C25: AMT Patch | G25: =-'CBO alternatives'!D48 -> 0 | H25: =-'CBO alternatives'!E48 -> 0.1009792 | I25: =-'CBO alternatives'!F48 -> 1.0529318 | J25: =-'CBO alternatives'!G48 -> 2.147392 | K25: =-'CBO alternatives'!H48 -> 3.5740875 | L25: =-'CBO alternatives'!I48 -> 6.7145824 | M25: =-'CBO alternatives'!J48 -> 10.798025 | N25: =-'CBO alternatives'!K48 -> 15.139009 | ... Q25: =-'CBO alternatives'!N48 -> 33.07709
C26: Doc Fix | G26: =-'CBO alternatives'!D37 -> 0 | H26: =-'CBO alternatives'!E37 -> 0.1346688 | I26: =-'CBO alternatives'!F37 -> 0.3717162 | J26: =-'CBO alternatives'!G37 -> 0.7827852 | K26: =-'CBO alternatives'!H37 -> 1.4868591 | L26: =-'CBO alternatives'!I37 -> 3.043374 | M26: =-'CBO alternatives'!J37 -> 5.0178922 | N26: =-'CBO alternatives'!K37 -> 7.0703013 | ... Q26: =-'CBO alternatives'!N37 -> 14.467536
C27: Overseas Contingency Operations | G27: =-'CBO alternatives'!D16 -> 0 | H27: =-'CBO alternatives'!E16 -> -0.2054416 | I27: =-'CBO alternatives'!F16 -> -0.8034245 | J27: =-'CBO alternatives'!G16 -> -2.1709232 | K27: =-'CBO alternatives'!H16 -> -4.7757753 | L27: =-'CBO alternatives'!I16 -> -11.024582 | M27: =-'CBO alternatives'!J16 -> -19.107472 | N27: =-'CBO alternatives'!K16 -> -27.462969 | ... Q27: =-'CBO alternatives'!N16 -> -54.976326
C28: Adjusted net interest | F28: =SUM(F24:F27) -> 196.194 | G28: =SUM(G24:G27) -> 221.302 | H28: =SUM(H24:H27) -> 237.79221 | I28: =SUM(I24:I27) -> 263.76122 | J28: =SUM(J24:J27) -> 291.52125 | K28: =SUM(K24:K27) -> 336.66317 | L28: =SUM(L24:L27) -> 405.29637 | M28: =SUM(M24:M27) -> 480.48445 | ... Q28: =SUM(Q24:Q27) -> 655.6973
F29: _____ | G29: _____ | H29: _____ | I29: _____ | J29: _____ | K29: _____ | L29: _____ | M29: _____ | N29: _____ | O29: _____ | P29: _____ | Q29: _____
C30: Total Outlays | F30: =SUM(F20,F23,F28) -> 3456.243 | G30: =SUM(G20,G23,G28) -> 3597.397 | H30: =SUM(H20,H23,H28) -> 3602.3072 | I30: =SUM(I20,I23,I28) -> 3658.8572 | J30: =SUM(J20,J23,J28) -> 3740.8613 | K30: =SUM(K20,K23,K28) -> 3901.5632 | L30: =SUM(L20,L23,L28) -> 4147.8754 | M30: =SUM(M20,M23,M28) -> 4341.2074 | ... Q30: =SUM(Q20,Q23,Q28) -> 5294.7803
A32: Balance ex-Joint Select Committee | F32: =F7 - F30 -> -1293.5189 | G32: =G7 - G30 -> -1283.5619 | H32: =H7 - H30 -> -975.94313 | I32: =I7 - I30 -> -682.26522 | J32: =J7 - J30 -> -357.16983 | K32: =K7 - K30 -> -281.72653 | L32: =L7 - L30 -> -354.39064 | M32: =M7 - M30 -> -316.28289 | ... Q32: =Q7 - Q30 -> -446.89925
A34: Joint Select Committee
B35: Policy changes | F35: 0 | G35: 0 | H35: 0 | I35: 111.4434 | J35: 111.4434 | K35: 111.4434 | L35: 111.4434 | M35: 111.4434 | N35: 111.4434 | O35: 111.4434 | P35: 111.4434 | Q35: 111.4434
B36: Debt service | F36: 0 | G36: 0 | H36: 0 | I36: 1.1032897 | J36: 3.1315595 | K36: 6.1739644 | L36: 12.492805 | M36: 20.070956 | N36: 27.281344 | O36: 34.61432 | P36: 42.170183 | Q36: 49.971221
F37: _ | G37: _ | H37: _ | I37: ___ | J37: ___ | K37: ___ | L37: ___ | M37: ___ | N37: ___ | O37: ___ | P37: ___ | Q37: ___
C38: Total Effects | F38: =SUM(F35:F36) -> 0 | G38: =SUM(G35:G36) -> 0 | H38: =SUM(H35:H36) -> 0 | I38: =SUM(I35:I36) -> 112.54669 | J38: =SUM(J35:J36) -> 114.57496 | K38: =SUM(K35:K36) -> 117.61736 | L38: =SUM(L35:L36) -> 123.93621 | M38: =SUM(M35:M36) -> 131.51436 | ... Q38: =SUM(Q35:Q36) -> 161.41462
A40: Total Balance | F40: =SUM(F32,F38) -> -1293.5189 | G40: =SUM(G32,G38) -> -1283.5619 | H40: =SUM(H32,H38) -> -975.94313 | I40: =SUM(I32,I38) -> -569.71853 | J40: =SUM(J32,J38) -> -242.59487 | K40: =SUM(K32,K38) -> -164.10917 | L40: =SUM(L32,L38) -> -230.45444 | M40: =SUM(M32,M38) -> -184.76854 | ... Q40: =SUM(Q32,Q38) -> -285.48463
A41: Memo: Primary Balance | F41: =F40 + F42 -> -1097.3249 | G41: =G40 + G42 -> -1062.2599 | H41: =H40 + H42 -> -738.18113 | I41: =I40 + I42 -> -307.68182 | J41: =J40 + J42 -> 45.035567 | K41: =K40 + K42 -> 166.09487 | L41: =L40 + L42 -> 163.61576 | M41: =M40 + M42 -> 278.93651 | ... Q41: =Q40 + Q42 -> 327.67315
A42: Memo: Net Interest | F42: =F24 - F36 -> 196.194 | G42: =G24 - G36 -> 221.302 | H42: =H24 - H36 -> 237.762 | I42: =I24 - I36 -> 262.03671 | J42: =J24 - J36 -> 287.63044 | K42: =K24 - K36 -> 330.20404 | L42: =L24 - L36 -> 394.07019 | M42: =M24 - M36 -> 463.70504 | ... Q42: =Q24 - Q36 -> 613.15778
